BEGIN:VCALENDAR
VERSION:2.0
PRODID:-//African School of Regulation - ECPv6.6.2//NONSGML v1.0//EN
CALSCALE:GREGORIAN
METHOD:PUBLISH
X-WR-CALNAME:African School of Regulation
X-ORIGINAL-URL:https://africanschoolregulation.org
X-WR-CALDESC:Events for African School of Regulation
REFRESH-INTERVAL;VALUE=DURATION:PT1H
X-Robots-Tag:noindex
X-PUBLISHED-TTL:PT1H
BEGIN:VTIMEZONE
TZID:Europe/Helsinki
BEGIN:DAYLIGHT
TZOFFSETFROM:+0200
TZOFFSETTO:+0300
TZNAME:EEST
DTSTART:20230326T010000
END:DAYLIGHT
BEGIN:STANDARD
TZOFFSETFROM:+0300
TZOFFSETTO:+0200
TZNAME:EET
DTSTART:20231029T010000
END:STANDARD
END:VTIMEZONE
BEGIN:VEVENT
DTSTART;TZID=Europe/Helsinki:20230509T140000
DTEND;TZID=Europe/Helsinki:20230511T170000
DTSTAMP:20260421T022326
CREATED:20230415T153551Z
LAST-MODIFIED:20240705T083142Z
UID:4002-1683640800-1683824400@africanschoolregulation.org
SUMMARY:Power Pools in Africa: Releasing the Potential of Regional Power Trade
DESCRIPTION:About the Event​\n\n\n\n\nFrench TranslationSimultaneous translation will be provided for those who wish to listen in French.  \n\n\n\n\n\n\n\n\nConference  Brochure\n\n\n\n\n\n\n\n\n\n\n\nConference  Recordings\n\n\n\n\n\n\n\n\n\nRecordings\n\n\n\nVideos of the online sessions are now available: \n\n\n\n\nWatch here\n\n\n\n\n\n\n\n\nSpeakers’ Bio\n\n\n\n\n\n\n\n\n\n\n\n\nReading Materials\n\n\n\nThe policy dialogue will be maintained at the expert level. The following background readings for each session introduce the key topics to be discussed during the conference.  \n\n\n\n\n\nThe development of African power pools \n\n\n\n\n\n\n\n\n\nRegional institutions of African power pools\n\n\n\n\n\n\n\n\n\n\n\nTransmission cost allocation in regional markets\n\n\n\n\n\n\n\n\n\nRegional Power trade and Bilateral Contracts \n\n\n\n\n\n\n\n\n\nThe development of African power pools\n\n\n\n\n\n\n\n\n\nPresentations for Day 1\n\n\n\nThe introductory presentations for Day 1 are now available for download  \n\n\n\n\n\nSession 1: Regional organisations and infrastructure planning \n\n\n\n\n\n\n\n\n\nSession 2: Market rules & transmission regulation\n\n\n\n\n\n\n\n\n\n\n\nOpen issues and key lessons learned\n\n\n\n\n\n\n\n\n\n\n\n\n\nPolicy Brief  \n\n\n\nThe conference brief below describes the Policy Dialogue on Renewable Generation and Regional Power Trade in Africa\, succinctly presents its objectives and program\, and sums up its findings and takeaways. Several annexes and website links to the conference readings and presentations provide ample information for those interested in going deeper into the topic. Kindly visit the following link for more information: https://africanschoolregulation.org//wp-admin/post.php?post=3291&action=edit \n\n\n\nThe Policy Dialogue on Renewable Generation and Regional Power Trade in Africa – Conference Brief
URL:https://africanschoolregulation.org/event/power-pools-in-africa-releasing-the-potential-of-regional-power-trade/
CATEGORIES:Electricity,Power sector regulation
ATTACH;FMTTYPE=image/jpeg:https://africanschoolregulation.org/wp-content/uploads/2023/04/WhatsApp-Image-2023-04-15-at-08.17.59.jpeg
END:VEVENT
END:VCALENDAR